BEGIN:VCALENDAR
VERSION:2.0
PRODID:icalendar-ruby
CALSCALE:GREGORIAN
METHOD:PUBLISH
BEGIN:VEVENT
DTSTAMP:20260421T065043Z
UID:138-595686@stjohnsmontgomery.org
DTSTART:20260520T163000Z
DTEND:20260520T173000Z
CLASS:PUBLIC
CREATED:20260420T200619
DESCRIPTION:
LAST-MODIFIED:20260420T200619
LOCATION:
SUMMARY:Centering Prayer Group
URL;VALUE=URI:https://stjohnsmontgomery.org/events/centering-prayer-group/2
 026-05-20
ATTACH;FILENAME=Centering-Prayer-Group.png;FMTTYPE=image/png:https://dq5pwp
 g1q8ru0.cloudfront.net/2026/04/20/16/35/32/d5a6ae1f-16e8-4396-aa37-ec37d57
 3b93c/Centering-Prayer-Group.png
END:VEVENT
END:VCALENDAR
