BEGIN:VCALENDAR
VERSION:2.0
PRODID:icalendar-ruby
CALSCALE:GREGORIAN
METHOD:PUBLISH
BEGIN:VEVENT
DTSTAMP:20260421T020800Z
UID:139-595711@stjohnsmontgomery.org
DTSTART:20260429T223000Z
DTEND:20260430T000000Z
CLASS:PUBLIC
CREATED:20260420T200619
DESCRIPTION:EYC meets at a different location on Wednesdays each week. Cont
 act JR@stjohnsmontgomery.org for location and other info.
LAST-MODIFIED:20260420T200619
LOCATION:
SUMMARY:Coffice EYC Gathering
URL;VALUE=URI:https://stjohnsmontgomery.org/events/coffice-eyc-gathering/20
 26-04-29
ATTACH;FILENAME=Kids-%281%29.png;FMTTYPE=image/png:https://dq5pwpg1q8ru0.cl
 oudfront.net/2026/04/20/16/38/02/ae36a206-7a4c-44cf-aec8-ffb09e50e18f/Kids
 -%25281%2529.png
END:VEVENT
END:VCALENDAR
