BEGIN:VCALENDAR
VERSION:2.0
PRODID:icalendar-ruby
CALSCALE:GREGORIAN
METHOD:PUBLISH
BEGIN:VEVENT
DTSTAMP:20260423T145338Z
UID:134-593321@stjohnsmontgomery.org
DTSTART:20260423T220000Z
DTEND:20260424T000000Z
CLASS:PUBLIC
CREATED:20260420T112452
DESCRIPTION:
LAST-MODIFIED:20260420T112452
LOCATION:
SUMMARY:ECW Spring Social
URL;VALUE=URI:https://stjohnsmontgomery.org/events/ecw-spring-social--134/2
 026-04-23
ATTACH;FILENAME=InviteSpringSocial-1.png;FMTTYPE=image/png:https://dq5pwpg1
 q8ru0.cloudfront.net/2026/04/20/16/24/52/2793737e-dbaa-47db-a7f4-1de790994
 222/InviteSpringSocial-1.png
END:VEVENT
END:VCALENDAR
