BEGIN:VCALENDAR
VERSION:2.0
PRODID:icalendar-ruby
CALSCALE:GREGORIAN
METHOD:PUBLISH
BEGIN:VEVENT
DTSTAMP:20260420T221050Z
UID:135-593322@stjohnsmontgomery.org
DTSTART:20260420T220000Z
DTEND:20260420T230000Z
CLASS:PUBLIC
CREATED:20260420T112658
DESCRIPTION:
LAST-MODIFIED:20260420T112658
LOCATION:
SUMMARY:Vestry Meeting
URL;VALUE=URI:https://stjohnsmontgomery.org/events/vestry-meeting--135/2026
 -04-20
ATTACH;FILENAME=Vestry.png;FMTTYPE=image/png:https://dq5pwpg1q8ru0.cloudfro
 nt.net/2026/04/20/16/26/58/47c7b642-fa5a-4d90-8664-5df3b7815aaf/Vestry.png
END:VEVENT
END:VCALENDAR
